BEGIN:VCALENDAR
VERSION:2.0
PRODID:-//Children&#039;s Creative Learning Center - ECPv6.2.3.1//NONSGML v1.0//EN
CALSCALE:GREGORIAN
METHOD:PUBLISH
X-WR-CALNAME:Children&#039;s Creative Learning Center
X-ORIGINAL-URL:https://childrenscreativelearningcenter.com
X-WR-CALDESC:Events for Children&#039;s Creative Learning Center
REFRESH-INTERVAL;VALUE=DURATION:PT1H
X-Robots-Tag:noindex
X-PUBLISHED-TTL:PT1H
BEGIN:VTIMEZONE
TZID:UTC
BEGIN:STANDARD
TZOFFSETFROM:+0000
TZOFFSETTO:+0000
TZNAME:UTC
DTSTART:20150101T000000
END:STANDARD
END:VTIMEZONE
BEGIN:VEVENT
DTSTART;TZID=UTC:20150902T230000
DTEND;TZID=UTC:20150902T230000
DTSTAMP:20260422T004329
CREATED:20150824T180839Z
LAST-MODIFIED:20150824T180839Z
UID:414-1441234800-1441234800@childrenscreativelearningcenter.com
SUMMARY:"So Long" Summer Celebration
DESCRIPTION:It’s time to say\, “Good-Bye” to summer and some of our friends. A picnic lunch will be provided for our CCLC students.  The participation form is located on our Forms page.
URL:https://childrenscreativelearningcenter.com/calendar/so-long-summer-celebration/
END:VEVENT
END:VCALENDAR