BEGIN:VCALENDAR
VERSION:2.0
PRODID:-//Children&#039;s Creative Learning Center - ECPv6.2.3.1//NONSGML v1.0//EN
CALSCALE:GREGORIAN
METHOD:PUBLISH
X-WR-CALNAME:Children&#039;s Creative Learning Center
X-ORIGINAL-URL:https://childrenscreativelearningcenter.com
X-WR-CALDESC:Events for Children&#039;s Creative Learning Center
REFRESH-INTERVAL;VALUE=DURATION:PT1H
X-Robots-Tag:noindex
X-PUBLISHED-TTL:PT1H
BEGIN:VTIMEZONE
TZID:UTC
BEGIN:STANDARD
TZOFFSETFROM:+0000
TZOFFSETTO:+0000
TZNAME:UTC
DTSTART:20150101T000000
END:STANDARD
END:VTIMEZONE
BEGIN:VEVENT
DTSTART;TZID=UTC:20151028T160000
DTEND;TZID=UTC:20151028T170000
DTSTAMP:20260422T095729
CREATED:20151013T213156Z
LAST-MODIFIED:20151013T213156Z
UID:422-1446048000-1446051600@childrenscreativelearningcenter.com
SUMMARY:Trick or Treat Event
DESCRIPTION:Our annual CCLC Trick or Treat event will begin at 4:00pm.  Children can bring costumes to school.  Call for more details.
URL:https://childrenscreativelearningcenter.com/calendar/trick-or-treat-event/
END:VEVENT
END:VCALENDAR