BEGIN:VCALENDAR
VERSION:2.0
PRODID:-//Children&#039;s Creative Learning Center - ECPv6.2.3.1//NONSGML v1.0//EN
CALSCALE:GREGORIAN
METHOD:PUBLISH
X-ORIGINAL-URL:https://childrenscreativelearningcenter.com
X-WR-CALDESC:Events for Children&#039;s Creative Learning Center
REFRESH-INTERVAL;VALUE=DURATION:PT1H
X-Robots-Tag:noindex
X-PUBLISHED-TTL:PT1H
BEGIN:VTIMEZONE
TZID:UTC
BEGIN:STANDARD
TZOFFSETFROM:+0000
TZOFFSETTO:+0000
TZNAME:UTC
DTSTART:20150101T000000
END:STANDARD
END:VTIMEZONE
BEGIN:VEVENT
DTSTART;TZID=UTC:20151103T073000
DTEND;TZID=UTC:20151103T100000
DTSTAMP:20260422T100052
CREATED:20151013T215850Z
LAST-MODIFIED:20151013T215850Z
UID:423-1446535800-1446544800@childrenscreativelearningcenter.com
SUMMARY:Picture Day!
DESCRIPTION:Dress your best.  Pictures begin at 7:30 with out school-age friends and their siblings.
URL:https://childrenscreativelearningcenter.com/calendar/picture-day/
END:VEVENT
END:VCALENDAR