BEGIN:VCALENDAR
VERSION:2.0
PRODID:-//Children&#039;s Creative Learning Center - ECPv6.2.3.1//NONSGML v1.0//EN
CALSCALE:GREGORIAN
METHOD:PUBLISH
X-WR-CALNAME:Children&#039;s Creative Learning Center
X-ORIGINAL-URL:https://childrenscreativelearningcenter.com
X-WR-CALDESC:Events for Children&#039;s Creative Learning Center
REFRESH-INTERVAL;VALUE=DURATION:PT1H
X-Robots-Tag:noindex
X-PUBLISHED-TTL:PT1H
BEGIN:VTIMEZONE
TZID:UTC
BEGIN:STANDARD
TZOFFSETFROM:+0000
TZOFFSETTO:+0000
TZNAME:UTC
DTSTART:20150101T000000
END:STANDARD
END:VTIMEZONE
BEGIN:VEVENT
DTSTART;TZID=UTC:20151121T173000
DTEND;TZID=UTC:20151121T220000
DTSTAMP:20260422T095730
CREATED:20151014T184929Z
LAST-MODIFIED:20151014T185258Z
UID:424-1448127000-1448143200@childrenscreativelearningcenter.com
SUMMARY:Parent's Night Out
DESCRIPTION:Join us for fun\, food\, crafts\, games and a movie.
URL:https://childrenscreativelearningcenter.com/calendar/parents-night-out-4/
END:VEVENT
END:VCALENDAR