BEGIN:VCALENDAR
VERSION:2.0
PRODID:-//Children&#039;s Creative Learning Center - ECPv6.2.3.1//NONSGML v1.0//EN
CALSCALE:GREGORIAN
METHOD:PUBLISH
X-WR-CALNAME:Children&#039;s Creative Learning Center
X-ORIGINAL-URL:https://childrenscreativelearningcenter.com
X-WR-CALDESC:Events for Children&#039;s Creative Learning Center
REFRESH-INTERVAL;VALUE=DURATION:PT1H
X-Robots-Tag:noindex
X-PUBLISHED-TTL:PT1H
BEGIN:VTIMEZONE
TZID:UTC
BEGIN:STANDARD
TZOFFSETFROM:+0000
TZOFFSETTO:+0000
TZNAME:UTC
DTSTART:20150101T000000
END:STANDARD
END:VTIMEZONE
BEGIN:VEVENT
DTSTART;VALUE=DATE:20151127
DTEND;VALUE=DATE:20151128
DTSTAMP:20260422T095814
CREATED:20151014T185604Z
LAST-MODIFIED:20151014T185604Z
UID:427-1448582400-1448668799@childrenscreativelearningcenter.com
SUMMARY:Closed - Thanksgiving Break
DESCRIPTION:Enjoy your day.  See you on Monday\, November 30th.
URL:https://childrenscreativelearningcenter.com/calendar/closed-thanksgiving-break/
END:VEVENT
END:VCALENDAR