BEGIN:VCALENDAR
VERSION:2.0
PRODID:-//Children&#039;s Creative Learning Center - ECPv6.2.3.1//NONSGML v1.0//EN
CALSCALE:GREGORIAN
METHOD:PUBLISH
X-WR-CALNAME:Children&#039;s Creative Learning Center
X-ORIGINAL-URL:https://childrenscreativelearningcenter.com
X-WR-CALDESC:Events for Children&#039;s Creative Learning Center
REFRESH-INTERVAL;VALUE=DURATION:PT1H
X-Robots-Tag:noindex
X-PUBLISHED-TTL:PT1H
BEGIN:VTIMEZONE
TZID:UTC
BEGIN:STANDARD
TZOFFSETFROM:+0000
TZOFFSETTO:+0000
TZNAME:UTC
DTSTART:20150101T000000
END:STANDARD
END:VTIMEZONE
BEGIN:VEVENT
DTSTART;TZID=UTC:20151130T073000
DTEND;TZID=UTC:20151204T173000
DTSTAMP:20260422T081619
CREATED:20151014T190210Z
LAST-MODIFIED:20151014T190210Z
UID:429-1448868600-1449250200@childrenscreativelearningcenter.com
SUMMARY:Parent/Teacher Conferences (Lizard\, Infant & Toddler)
DESCRIPTION:Parent Teacher conferences will be held this week for children in the Lizard Room\, and infants and toddlers.  Sign-up sheets will be posted on the classroom doors two weeks in advance.
URL:https://childrenscreativelearningcenter.com/calendar/parentteacher-conferences-lizard-infant-toddler/
END:VEVENT
END:VCALENDAR