BEGIN:VCALENDAR
VERSION:2.0
PRODID:-//Children&#039;s Creative Learning Center - ECPv6.2.3.1//NONSGML v1.0//EN
CALSCALE:GREGORIAN
METHOD:PUBLISH
X-WR-CALNAME:Children&#039;s Creative Learning Center
X-ORIGINAL-URL:https://childrenscreativelearningcenter.com
X-WR-CALDESC:Events for Children&#039;s Creative Learning Center
REFRESH-INTERVAL;VALUE=DURATION:PT1H
X-Robots-Tag:noindex
X-PUBLISHED-TTL:PT1H
BEGIN:VTIMEZONE
TZID:UTC
BEGIN:STANDARD
TZOFFSETFROM:+0000
TZOFFSETTO:+0000
TZNAME:UTC
DTSTART:20150101T000000
END:STANDARD
END:VTIMEZONE
BEGIN:VEVENT
DTSTART;TZID=UTC:20151210T183000
DTEND;TZID=UTC:20151210T200000
DTSTAMP:20260422T081517
CREATED:20151014T190435Z
LAST-MODIFIED:20151014T190435Z
UID:430-1449772200-1449777600@childrenscreativelearningcenter.com
SUMMARY:Holiday Gathering
DESCRIPTION:Our annual Holiday Gathering begins at 6:30pm at Liberty School Cafeteria.  Please bring a dish to pass.
URL:https://childrenscreativelearningcenter.com/calendar/holiday-gathering/
END:VEVENT
END:VCALENDAR