BEGIN:VCALENDAR
VERSION:2.0
PRODID:-//Children&#039;s Creative Learning Center - ECPv6.2.3.1//NONSGML v1.0//EN
CALSCALE:GREGORIAN
METHOD:PUBLISH
X-WR-CALNAME:Children&#039;s Creative Learning Center
X-ORIGINAL-URL:https://childrenscreativelearningcenter.com
X-WR-CALDESC:Events for Children&#039;s Creative Learning Center
REFRESH-INTERVAL;VALUE=DURATION:PT1H
X-Robots-Tag:noindex
X-PUBLISHED-TTL:PT1H
BEGIN:VTIMEZONE
TZID:UTC
BEGIN:STANDARD
TZOFFSETFROM:+0000
TZOFFSETTO:+0000
TZNAME:UTC
DTSTART:20160101T000000
END:STANDARD
END:VTIMEZONE
BEGIN:VEVENT
DTSTART;VALUE=DATE:20160304
DTEND;VALUE=DATE:20160305
DTSTAMP:20260422T033904
CREATED:20160226T200649Z
LAST-MODIFIED:20160226T200649Z
UID:442-1457049600-1457135999@childrenscreativelearningcenter.com
SUMMARY:Teddy Bear Picnic
DESCRIPTION:Bring a stuffed bear or animal to school to read with. Please put your child’s name on the tag.
URL:https://childrenscreativelearningcenter.com/calendar/teddy-bear-picnic/
END:VEVENT
END:VCALENDAR