BEGIN:VCALENDAR
VERSION:2.0
PRODID:-//Children&#039;s Creative Learning Center - ECPv6.2.3.1//NONSGML v1.0//EN
CALSCALE:GREGORIAN
METHOD:PUBLISH
X-WR-CALNAME:Children&#039;s Creative Learning Center
X-ORIGINAL-URL:https://childrenscreativelearningcenter.com
X-WR-CALDESC:Events for Children&#039;s Creative Learning Center
REFRESH-INTERVAL;VALUE=DURATION:PT1H
X-Robots-Tag:noindex
X-PUBLISHED-TTL:PT1H
BEGIN:VTIMEZONE
TZID:UTC
BEGIN:STANDARD
TZOFFSETFROM:+0000
TZOFFSETTO:+0000
TZNAME:UTC
DTSTART:20160101T000000
END:STANDARD
END:VTIMEZONE
BEGIN:VEVENT
DTSTART;VALUE=DATE:20160330
DTEND;VALUE=DATE:20160331
DTSTAMP:20260422T034832
CREATED:20160226T202351Z
LAST-MODIFIED:20160226T202351Z
UID:452-1459296000-1459382399@childrenscreativelearningcenter.com
SUMMARY:Technology Blackout
DESCRIPTION:No technology all day.  Read a book instead. Wear black.
URL:https://childrenscreativelearningcenter.com/calendar/technology-blackout/
END:VEVENT
END:VCALENDAR