BEGIN:VCALENDAR
VERSION:2.0
PRODID:-//Children&#039;s Creative Learning Center - ECPv6.2.3.1//NONSGML v1.0//EN
CALSCALE:GREGORIAN
METHOD:PUBLISH
X-WR-CALNAME:Children&#039;s Creative Learning Center
X-ORIGINAL-URL:https://childrenscreativelearningcenter.com
X-WR-CALDESC:Events for Children&#039;s Creative Learning Center
REFRESH-INTERVAL;VALUE=DURATION:PT1H
X-Robots-Tag:noindex
X-PUBLISHED-TTL:PT1H
BEGIN:VTIMEZONE
TZID:UTC
BEGIN:STANDARD
TZOFFSETFROM:+0000
TZOFFSETTO:+0000
TZNAME:UTC
DTSTART:20160101T000000
END:STANDARD
END:VTIMEZONE
BEGIN:VEVENT
DTSTART;VALUE=DATE:20160331
DTEND;VALUE=DATE:20160401
DTSTAMP:20260422T033934
CREATED:20160226T202458Z
LAST-MODIFIED:20160226T202458Z
UID:453-1459382400-1459468799@childrenscreativelearningcenter.com
SUMMARY:Reading Celebration
DESCRIPTION:Let the fun begin!  To celebrate reaching our reading goal of 600 books\, we will have a special day.
URL:https://childrenscreativelearningcenter.com/calendar/reading-celebration/
END:VEVENT
END:VCALENDAR